BEGIN:VCALENDAR
VERSION:2.0
PRODID:icalendar-ruby
CALSCALE:GREGORIAN
METHOD:PUBLISH
X-WR-CALNAME:Tri-Cities Area Journal of Business
BEGIN:VTIMEZONE
TZID:America/Los_Angeles
BEGIN:DAYLIGHT
DTSTART:20260308T030000
TZOFFSETFROM:-0800
TZOFFSETTO:-0700
RRULE:FREQ=YEARLY;BYDAY=2SU;BYMONTH=3
TZNAME:PDT
END:DAYLIGHT
BEGIN:STANDARD
DTSTART:20261101T010000
TZOFFSETFROM:-0700
TZOFFSETTO:-0800
RRULE:FREQ=YEARLY;BYDAY=1SU;BYMONTH=11
TZNAME:PST
END:STANDARD
END:VTIMEZONE
BEGIN:VEVENT
DTSTAMP:20260423T143920Z
UID:17c1a9eb-fc99-46d1-85ff-0ba61ad8872b
DTSTART;TZID=America/Los_Angeles:20260423T183000
DTEND;TZID=America/Los_Angeles:20260425T183000
DESCRIPTION:Secret Agents: a Choral Conspiracy\n\nhttps://www.tricitiesbusi
 nessnews.com/events/777-tri-city-youth-choir-presents-forte
LOCATION:Kennewick High School's Art Fuller Auditorium
SUMMARY:Tri-City Youth Choir Presents: Forte! 
URL:https://www.yourtcyc.com/purchase-tickets
END:VEVENT
END:VCALENDAR
