BEGIN:VCALENDAR
VERSION:2.0
PRODID:icalendar-ruby
CALSCALE:GREGORIAN
METHOD:PUBLISH
X-WR-CALNAME:Tri-Cities Area Journal of Business
BEGIN:VTIMEZONE
TZID:America/Los_Angeles
BEGIN:DAYLIGHT
DTSTART:20260308T030000
TZOFFSETFROM:-0800
TZOFFSETTO:-0700
RRULE:FREQ=YEARLY;BYDAY=2SU;BYMONTH=3
TZNAME:PDT
END:DAYLIGHT
BEGIN:STANDARD
DTSTART:20261101T010000
TZOFFSETFROM:-0700
TZOFFSETTO:-0800
RRULE:FREQ=YEARLY;BYDAY=1SU;BYMONTH=11
TZNAME:PST
END:STANDARD
END:VTIMEZONE
BEGIN:VEVENT
DTSTAMP:20260421T092139Z
UID:275a5bd2-eaeb-4e28-9bdd-a8b515aba851
DTSTART;TZID=America/Los_Angeles:20260514T160000
DTEND;TZID=America/Los_Angeles:20260514T180000
DESCRIPTION:This annual event recognizes young professionals in the Tri-Cit
 ies business community.\n\nhttps://www.tricitiesbusinessnews.com/events/79
 7-2026-young-professionals
LOCATION:Zintel Creek Golf Club
SUMMARY:2026 Young Professionals
URL:/yp
END:VEVENT
END:VCALENDAR
