BEGIN:VCALENDAR
VERSION:2.0
PRODID:icalendar-ruby
CALSCALE:GREGORIAN
METHOD:PUBLISH
X-WR-CALNAME:Tri-Cities Area Journal of Business
BEGIN:VTIMEZONE
TZID:America/Los_Angeles
BEGIN:DAYLIGHT
DTSTART:20260308T030000
TZOFFSETFROM:-0800
TZOFFSETTO:-0700
RRULE:FREQ=YEARLY;BYDAY=2SU;BYMONTH=3
TZNAME:PDT
END:DAYLIGHT
BEGIN:STANDARD
DTSTART:20261101T010000
TZOFFSETFROM:-0700
TZOFFSETTO:-0800
RRULE:FREQ=YEARLY;BYDAY=1SU;BYMONTH=11
TZNAME:PST
END:STANDARD
END:VTIMEZONE
BEGIN:VEVENT
DTSTAMP:20260425T134423Z
UID:c9695c51-4779-44fc-b556-8c76bbf037fb
DTSTART;TZID=America/Los_Angeles:20260501T163000
DTEND;TZID=America/Los_Angeles:20260501T193000
DESCRIPTION:Celebrate 75 Years of the Richland Public Library: A Community 
 Story 75 Years in the Making\n\nJoin us as we celebrate 75 years of storie
 s\, connection\, and community with a one-of-a-kind all ages anniversary e
 vent that transforms the library into a living timeline.\n\nhttps://www.tr
 icitiesbusinessnews.com/events/800-richland-public-library-s-75th-annivers
 ary-celebration
LOCATION:Richland Public Library
SUMMARY:Richland Public Library's 75th Anniversary Celebration
URL:https://myrichlandlibrary.libcal.com/event/16417982
END:VEVENT
END:VCALENDAR
